BEGIN:VCALENDAR
VERSION:2.0
PRODID:-//Martínez Assessors - ECPv5.1.1//NONSGML v1.0//EN
CALSCALE:GREGORIAN
METHOD:PUBLISH
X-WR-CALNAME:Martínez Assessors
X-ORIGINAL-URL:https://www.martinezassessors.net
X-WR-CALDESC:Eventos para Martínez Assessors
BEGIN:VTIMEZONE
TZID:Europe/Paris
BEGIN:DAYLIGHT
TZOFFSETFROM:+0100
TZOFFSETTO:+0200
TZNAME:CEST
DTSTART:20200329T010000
END:DAYLIGHT
BEGIN:STANDARD
TZOFFSETFROM:+0200
TZOFFSETTO:+0100
TZNAME:CET
DTSTART:20201025T010000
END:STANDARD
END:VTIMEZONE
BEGIN:VEVENT
DTSTART;VALUE=DATE:20200131
DTEND;VALUE=DATE:20200201
DTSTAMP:20260422T123223
CREATED:20200107T090420Z
LAST-MODIFIED:20200107T090420Z
UID:1349-1580428800-1580515199@www.martinezassessors.net
SUMMARY:Declaración trimestral de IVA
DESCRIPTION:
URL:https://www.martinezassessors.net/event/declaracion-trimestral-de-iva/
CATEGORIES:Evento Fiscal
END:VEVENT
END:VCALENDAR