BEGIN:VCALENDAR
VERSION:2.0
PRODID:-//Martínez Assessors - ECPv5.1.1//NONSGML v1.0//EN
CALSCALE:GREGORIAN
METHOD:PUBLISH
X-WR-CALNAME:Martínez Assessors
X-ORIGINAL-URL:https://www.martinezassessors.net
X-WR-CALDESC:Eventos para Martínez Assessors
BEGIN:VTIMEZONE
TZID:Europe/Paris
BEGIN:DAYLIGHT
TZOFFSETFROM:+0100
TZOFFSETTO:+0200
TZNAME:CEST
DTSTART:20190331T010000
END:DAYLIGHT
BEGIN:STANDARD
TZOFFSETFROM:+0200
TZOFFSETTO:+0100
TZNAME:CET
DTSTART:20191027T010000
END:STANDARD
END:VTIMEZONE
BEGIN:VEVENT
DTSTART;VALUE=DATE:20191231
DTEND;VALUE=DATE:20200101
DTSTAMP:20260422T155421
CREATED:20191126T065415Z
LAST-MODIFIED:20191126T065415Z
UID:1125-1577750400-1577836799@www.martinezassessors.net
SUMMARY:Dia de entregas de IVA
DESCRIPTION:Prueba \n
URL:https://www.martinezassessors.net/event/dia-de-entregas-de-iva/
END:VEVENT
END:VCALENDAR